BEGIN:VCALENDAR
VERSION:2.0
PRODID:-//Toys In the Attic - ECPv4.9.14//NONSGML v1.0//EN
CALSCALE:GREGORIAN
METHOD:PUBLISH
X-WR-CALNAME:Toys In the Attic
X-ORIGINAL-URL:https://www.toysintheattic.org/wp
X-WR-CALDESC:Events for Toys In the Attic
BEGIN:VTIMEZONE
TZID:UTC
BEGIN:STANDARD
TZOFFSETFROM:+0000
TZOFFSETTO:+0000
TZNAME:UTC
DTSTART:20200101T000000
END:STANDARD
END:VTIMEZONE
BEGIN:VEVENT
DTSTART;TZID=UTC:20200215T190000
DTEND;TZID=UTC:20200215T210000
DTSTAMP:20260421T120716
CREATED:20200121T095540Z
LAST-MODIFIED:20200121T095540Z
UID:853-1581793200-1581800400@www.toysintheattic.org
SUMMARY:Vibrafolk at Kaleidoscope Coffee
DESCRIPTION:Kaleidoscope Coffee is a cozy retreat in cozy Point Richmond. Come down and cozy up with some coffee or tea and listen to Vibrafolk\, a sound you’ve never heard before. \n
URL:https://www.toysintheattic.org/wp/event/vibrafolk-at-kaleidoscope-coffee/
LOCATION:Kaleidoscope Coffee\, 109 Park Place\, Richmond\, CA\, 94801\, United States
END:VEVENT
END:VCALENDAR