BEGIN:VCALENDAR
VERSION:2.0
PRODID:-//Toys In the Attic - ECPv4.9.14//NONSGML v1.0//EN
CALSCALE:GREGORIAN
METHOD:PUBLISH
X-WR-CALNAME:Toys In the Attic
X-ORIGINAL-URL:https://www.toysintheattic.org/wp
X-WR-CALDESC:Events for Toys In the Attic
BEGIN:VTIMEZONE
TZID:UTC
BEGIN:STANDARD
TZOFFSETFROM:+0000
TZOFFSETTO:+0000
TZNAME:UTC
DTSTART:20200101T000000
END:STANDARD
END:VTIMEZONE
BEGIN:VEVENT
DTSTART;TZID=UTC:20200228T190000
DTEND;TZID=UTC:20200228T210000
DTSTAMP:20260421T120611
CREATED:20200211T090624Z
LAST-MODIFIED:20200211T090828Z
UID:857-1582916400-1582923600@www.toysintheattic.org
SUMMARY:Vibrafolk returns to Caffe Chiave Piedmont!
DESCRIPTION:\n			\n		\n			\n				\n				\n				\n				\n				\n				\n				\n				\n				\n					\n	\n	\n			\n		\n		
URL:https://www.toysintheattic.org/wp/event/vibrafolk-returns-to-caffe-chiave-piedmont/
LOCATION:Caffe Chiave Piedmont\, 4045 Piedmont Ave\, Oakland\, CA\, 94611\, United States
END:VEVENT
END:VCALENDAR